BEGIN:VCALENDAR
VERSION:2.0
PRODID:-//Newmarket-on-Fergus Parish - ECPv6.15.18//NONSGML v1.0//EN
CALSCALE:GREGORIAN
METHOD:PUBLISH
X-ORIGINAL-URL:https://www.newmarketonfergusparish.ie
X-WR-CALDESC:Events for Newmarket-on-Fergus Parish
REFRESH-INTERVAL;VALUE=DURATION:PT1H
X-Robots-Tag:noindex
X-PUBLISHED-TTL:PT1H
BEGIN:VTIMEZONE
TZID:Europe/Dublin
BEGIN:STANDARD
TZOFFSETFROM:+0000
TZOFFSETTO:+0100
TZNAME:IST
DTSTART:20200329T010000
END:STANDARD
BEGIN:DAYLIGHT
TZOFFSETFROM:+0100
TZOFFSETTO:+0000
TZNAME:GMT
DTSTART:20201025T010000
END:DAYLIGHT
BEGIN:STANDARD
TZOFFSETFROM:+0000
TZOFFSETTO:+0100
TZNAME:IST
DTSTART:20210328T010000
END:STANDARD
BEGIN:DAYLIGHT
TZOFFSETFROM:+0100
TZOFFSETTO:+0000
TZNAME:GMT
DTSTART:20211031T010000
END:DAYLIGHT
BEGIN:STANDARD
TZOFFSETFROM:+0000
TZOFFSETTO:+0100
TZNAME:IST
DTSTART:20220327T010000
END:STANDARD
BEGIN:DAYLIGHT
TZOFFSETFROM:+0100
TZOFFSETTO:+0000
TZNAME:GMT
DTSTART:20221030T010000
END:DAYLIGHT
END:VTIMEZONE
BEGIN:VTIMEZONE
TZID:UTC
BEGIN:STANDARD
TZOFFSETFROM:+0000
TZOFFSETTO:+0000
TZNAME:UTC
DTSTART:20170101T000000
END:STANDARD
END:VTIMEZONE
BEGIN:VEVENT
DTSTART;TZID=Europe/Dublin:20210604T080000
DTEND;TZID=Europe/Dublin:20210604T170000
DTSTAMP:20260422T203021
CREATED:20210604T124023Z
LAST-MODIFIED:20220916T090614Z
UID:13963-1622793600-1622826000@www.newmarketonfergusparish.ie
SUMMARY:Confirmation Dates
DESCRIPTION:
URL:https://www.newmarketonfergusparish.ie/event/confirmation-dates/
ATTACH;FMTTYPE=image/png:https://www.newmarketonfergusparish.ie/wp-content/uploads/2021/05/images.png
END:VEVENT
BEGIN:VEVENT
DTSTART;VALUE=DATE:20200401
DTEND;VALUE=DATE:20200801
DTSTAMP:20260422T203021
CREATED:20200528T093001Z
LAST-MODIFIED:20200528T093359Z
UID:9951-1585699200-1596239999@www.newmarketonfergusparish.ie
SUMMARY:Multiday Event
DESCRIPTION:123
URL:https://www.newmarketonfergusparish.ie/event/multiday-event/
CATEGORIES:Event category 1
END:VEVENT
BEGIN:VEVENT
DTSTART;TZID=UTC:20181031T080000
DTEND;TZID=UTC:20181031T170000
DTSTAMP:20260422T203021
CREATED:20180814T114249Z
LAST-MODIFIED:20180814T114249Z
UID:9800-1540972800-1541005200@www.newmarketonfergusparish.ie
SUMMARY:Test event
DESCRIPTION:
URL:https://www.newmarketonfergusparish.ie/event/test-event/
CATEGORIES:Event category 1
END:VEVENT
BEGIN:VEVENT
DTSTART;TZID=UTC:20181013T080000
DTEND;TZID=UTC:20181013T170000
DTSTAMP:20260422T203021
CREATED:20180814T114321Z
LAST-MODIFIED:20180814T114321Z
UID:9802-1539417600-1539450000@www.newmarketonfergusparish.ie
SUMMARY:Test event 2
DESCRIPTION:
URL:https://www.newmarketonfergusparish.ie/event/test-event-2/
CATEGORIES:Event category 2
END:VEVENT
END:VCALENDAR